BEGIN:VCALENDAR
VERSION:2.0
PRODID:-//Tukios.com/
BEGIN:VEVENT
UID:5fd8aac2-fee0-4718-bead-c2b8c7e9a185@www.bilbreyfuneralhomeinc.com
DTSTAMP:20260422T095601Z
DTSTART:20260515T203000Z
DTEND:20260515T213000Z
SUMMARY:Celebration of Life
DESCRIPTION:
URL:https://www.bilbreyfuneralhomeinc.com/obituaries/walter-white
LOCATION:The Preserve at Fairfield Glade 100 Samaritan Way  Crossville TN 
	38558
GEO:36.0233915;-84.8548384
END:VEVENT
END:VCALENDAR