BEGIN:VCALENDAR
VERSION:2.0
PRODID:-//Tukios.com/
BEGIN:VEVENT
UID:3ceb158f-3656-4526-a53e-5974e77167d3@www.bilbreyfuneralhomeinc.com
DTSTAMP:20260422T011328Z
DTSTART:20260424T200000Z
DTEND:20260424T210000Z
SUMMARY:Funeral Service
DESCRIPTION:
URL:https://www.bilbreyfuneralhomeinc.com/obituaries/lois-elmore-penrod
LOCATION:Bilbrey Funeral Home 76 East Adams Street  Crossville TN 38555
GEO:35.945878;-85.0230128
END:VEVENT
END:VCALENDAR