BEGIN:VCALENDAR
VERSION:2.0
PRODID:-//Tukios.com/
BEGIN:VEVENT
UID:360a0028-fa4e-4220-bb33-bceb48d9c56d@www.bilbreyfuneralhomeinc.com
DTSTAMP:20260422T011606Z
DTSTART:20260424T190000Z
DTEND:20260424T200000Z
SUMMARY:Visitation
DESCRIPTION:
URL:https://www.bilbreyfuneralhomeinc.com/obituaries/lois-elmore-penrod
LOCATION:Bilbrey Funeral Home 76 East Adams Street  Crossville TN 38555
GEO:35.945878;-85.0230128
END:VEVENT
END:VCALENDAR